BEGIN:VCALENDAR
VERSION:2.0
PRODID:-//Deutsche Trial-Meisterschaft - ECPv5.14.1//NONSGML v1.0//EN
CALSCALE:GREGORIAN
METHOD:PUBLISH
X-WR-CALNAME:Deutsche Trial-Meisterschaft
X-ORIGINAL-URL:https://dm-trial.de
X-WR-CALDESC:Events for Deutsche Trial-Meisterschaft
REFRESH-INTERVAL;VALUE=DURATION:PT1H
X-Robots-Tag:noindex
X-PUBLISHED-TTL:PT1H
BEGIN:VTIMEZONE
TZID:Europe/Paris
BEGIN:DAYLIGHT
TZOFFSETFROM:+0100
TZOFFSETTO:+0200
TZNAME:CEST
DTSTART:20250330T010000
END:DAYLIGHT
BEGIN:STANDARD
TZOFFSETFROM:+0200
TZOFFSETTO:+0100
TZNAME:CET
DTSTART:20251026T010000
END:STANDARD
END:VTIMEZONE
BEGIN:VEVENT
DTSTART;TZID=Europe/Paris:20250802T000000
DTEND;TZID=Europe/Paris:20250802T235959
DTSTAMP:20260424T011507
CREATED:20250422T155329Z
LAST-MODIFIED:20250724T060008Z
UID:1194-1754092800-1754179199@dm-trial.de
SUMMARY:5. Lauf Deutsche Trial-Meisterschaft MSC Weser-Solling e.V.
DESCRIPTION:Der fünfte Lauf zur Deutschen Trial-Meisterschaft 2025 findet im Rahmen des Nacht-Trials in Fürstenhagen beim MSC Weser-Solling e.V. statt. \n\n\n\nAusschreibung \n\n\n\nVorläufiger Ablaufplan
URL:https://dm-trial.de/event/5-lauf-deutsche-trial-meisterschaft-msc-weser-solling-e-v
ATTACH;FMTTYPE=image/png:https://dm-trial.de/wp-content/uploads/2022/12/Logo-MSC-Weser-Solling.png
END:VEVENT
END:VCALENDAR