BEGIN:VCALENDAR
VERSION:2.0
PRODID:-//Deutsche Trial-Meisterschaft - ECPv5.14.1//NONSGML v1.0//EN
CALSCALE:GREGORIAN
METHOD:PUBLISH
X-WR-CALNAME:Deutsche Trial-Meisterschaft
X-ORIGINAL-URL:https://dm-trial.de
X-WR-CALDESC:Events for Deutsche Trial-Meisterschaft
REFRESH-INTERVAL;VALUE=DURATION:PT1H
X-Robots-Tag:noindex
X-PUBLISHED-TTL:PT1H
BEGIN:VTIMEZONE
TZID:Europe/Paris
BEGIN:DAYLIGHT
TZOFFSETFROM:+0100
TZOFFSETTO:+0200
TZNAME:CEST
DTSTART:20250330T010000
END:DAYLIGHT
BEGIN:STANDARD
TZOFFSETFROM:+0200
TZOFFSETTO:+0100
TZNAME:CET
DTSTART:20251026T010000
END:STANDARD
END:VTIMEZONE
BEGIN:VEVENT
DTSTART;TZID=Europe/Paris:20250823T080000
DTEND;TZID=Europe/Paris:20250824T170000
DTSTAMP:20260424T011314
CREATED:20250422T155544Z
LAST-MODIFIED:20250818T103621Z
UID:1197-1755936000-1756054800@dm-trial.de
SUMMARY:6. & 7. Lauf Deutsche Trial-Meisterschaft MSC Wüsten e.V.
DESCRIPTION:Der sechste und siebte Lauf zur Deutschen Trial-Meisterschaft 2025 findet beim MSC Wüsten e.V. statt. \n\n\n\nAusschreibung \n\n\n\nStreckenplan \n\n\n\nZeitplan \n\n\n\nZuschauer-Info \n\n\n\nWichtiger Hinweis: \n\n\n\nBei der Veranstaltung in Wüsten führt die Zwischenstrecke teilweise über öffentliche Straßen. Aus diesem Grund ist die Teilnahme nur mit gültiger Fahrerlaubnis und straßenzugelassenem Motorrad möglich. \n\n\n\nIm Rahmen der Papierabnahme wird die Zulassungsbescheinigung und die Fahrerlaubnis überprüft. Im Rahmen der Technischen Abnahme wird folgendes kontrolliert: \n\n\n\n\nLicht vorne und hinten\n\n\n\nNummernschild\n\n\n\n\nDie Überprüfung der obenstehenden Punkte umfasst auch den Wasserträger und das vom Wasserträger eingesetzte Motorrad.
URL:https://dm-trial.de/event/6-7-lauf-deutsche-trial-meisterschaft-msc-wuesten-e-v
ATTACH;FMTTYPE=image/png:https://dm-trial.de/wp-content/uploads/2025/04/Logo-MSC-Wuestene.V.png
END:VEVENT
END:VCALENDAR