BEGIN:VCALENDAR
VERSION:2.0
PRODID:-//Deutsche Trial-Meisterschaft - ECPv5.14.1//NONSGML v1.0//EN
CALSCALE:GREGORIAN
METHOD:PUBLISH
X-WR-CALNAME:Deutsche Trial-Meisterschaft
X-ORIGINAL-URL:https://dm-trial.de
X-WR-CALDESC:Events for Deutsche Trial-Meisterschaft
REFRESH-INTERVAL;VALUE=DURATION:PT1H
X-Robots-Tag:noindex
X-PUBLISHED-TTL:PT1H
BEGIN:VTIMEZONE
TZID:Europe/Paris
BEGIN:DAYLIGHT
TZOFFSETFROM:+0100
TZOFFSETTO:+0200
TZNAME:CEST
DTSTART:20250330T010000
END:DAYLIGHT
BEGIN:STANDARD
TZOFFSETFROM:+0200
TZOFFSETTO:+0100
TZNAME:CET
DTSTART:20251026T010000
END:STANDARD
END:VTIMEZONE
BEGIN:VEVENT
DTSTART;TZID=Europe/Paris:20250830T080000
DTEND;TZID=Europe/Paris:20250831T170000
DTSTAMP:20260424T011252
CREATED:20250422T160042Z
LAST-MODIFIED:20250808T131203Z
UID:1202-1756540800-1756659600@dm-trial.de
SUMMARY:1. & 2. Lauf Deutsche Jugend-Trial-Meisterschaft MSC Großheubach e.V.
DESCRIPTION:Der Start zur Deutschen Jugend-Trial-Meisterschaft 2025 findet beim MSC Großheubach e.V. statt. \n\n\n\nAusschreibung JDM Großheubach 2025 \n\n\n\nNominierte Fahrerinnen und Fahrer 2025
URL:https://dm-trial.de/event/1-2-lauf-deutsche-jugend-trial-meisterschaft-msc-grossheubach-e-v
ATTACH;FMTTYPE=image/png:https://dm-trial.de/wp-content/uploads/2022/04/MSC-Logo.png
END:VEVENT
END:VCALENDAR